BEGIN:VCALENDAR
VERSION:2.0
PRODID:-//Langedrag - ECPv6.15.20//NONSGML v1.0//EN
CALSCALE:GREGORIAN
METHOD:PUBLISH
X-WR-CALNAME:Langedrag
X-ORIGINAL-URL:https://www.langedrag.no
X-WR-CALDESC:Arrangement for Langedrag
REFRESH-INTERVAL;VALUE=DURATION:PT1H
X-Robots-Tag:noindex
X-PUBLISHED-TTL:PT1H
BEGIN:VTIMEZONE
TZID:Europe/Oslo
BEGIN:DAYLIGHT
TZOFFSETFROM:+0100
TZOFFSETTO:+0200
TZNAME:CEST
DTSTART:20240331T010000
END:DAYLIGHT
BEGIN:STANDARD
TZOFFSETFROM:+0200
TZOFFSETTO:+0100
TZNAME:CET
DTSTART:20241027T010000
END:STANDARD
BEGIN:DAYLIGHT
TZOFFSETFROM:+0100
TZOFFSETTO:+0200
TZNAME:CEST
DTSTART:20250330T010000
END:DAYLIGHT
BEGIN:STANDARD
TZOFFSETFROM:+0200
TZOFFSETTO:+0100
TZNAME:CET
DTSTART:20251026T010000
END:STANDARD
BEGIN:DAYLIGHT
TZOFFSETFROM:+0100
TZOFFSETTO:+0200
TZNAME:CEST
DTSTART:20260329T010000
END:DAYLIGHT
BEGIN:STANDARD
TZOFFSETFROM:+0200
TZOFFSETTO:+0100
TZNAME:CET
DTSTART:20261025T010000
END:STANDARD
END:VTIMEZONE
BEGIN:VEVENT
DTSTART;TZID=Europe/Oslo:20250307T100000
DTEND;TZID=Europe/Oslo:20250309T170000
DTSTAMP:20260423T141317
CREATED:20241112T114701Z
LAST-MODIFIED:20241112T130643Z
UID:10000648-1741341600-1741539600@www.langedrag.no
SUMMARY:Rideweekend i uke 10
DESCRIPTION:
URL:https://www.langedrag.no/aktivitet/rideweekend-uke-10/
LOCATION:Langedrag Naturpark\, Langedragsveien 274\, Tunhovd\, 3544\, Norge
CATEGORIES:Hest,Rideleir
ATTACH;FMTTYPE=image/jpeg:https://www.langedrag.no/wp-content/uploads/2024/02/132054607_1320559608308857_6677722607573032593_o.jpg
ORGANIZER;CN="Langedrag Naturpark":MAILTO:post@langedrag.no
END:VEVENT
END:VCALENDAR