BEGIN:VCALENDAR
VERSION:2.0
PRODID:-//Langedrag - ECPv6.15.20//NONSGML v1.0//EN
CALSCALE:GREGORIAN
METHOD:PUBLISH
X-WR-CALNAME:Langedrag
X-ORIGINAL-URL:https://www.langedrag.no
X-WR-CALDESC:Arrangement for Langedrag
REFRESH-INTERVAL;VALUE=DURATION:PT1H
X-Robots-Tag:noindex
X-PUBLISHED-TTL:PT1H
BEGIN:VTIMEZONE
TZID:Europe/Oslo
BEGIN:DAYLIGHT
TZOFFSETFROM:+0100
TZOFFSETTO:+0200
TZNAME:CEST
DTSTART:20220327T010000
END:DAYLIGHT
BEGIN:STANDARD
TZOFFSETFROM:+0200
TZOFFSETTO:+0100
TZNAME:CET
DTSTART:20221030T010000
END:STANDARD
BEGIN:DAYLIGHT
TZOFFSETFROM:+0100
TZOFFSETTO:+0200
TZNAME:CEST
DTSTART:20230326T010000
END:DAYLIGHT
BEGIN:STANDARD
TZOFFSETFROM:+0200
TZOFFSETTO:+0100
TZNAME:CET
DTSTART:20231029T010000
END:STANDARD
BEGIN:DAYLIGHT
TZOFFSETFROM:+0100
TZOFFSETTO:+0200
TZNAME:CEST
DTSTART:20240331T010000
END:DAYLIGHT
BEGIN:STANDARD
TZOFFSETFROM:+0200
TZOFFSETTO:+0100
TZNAME:CET
DTSTART:20241027T010000
END:STANDARD
END:VTIMEZONE
BEGIN:VEVENT
DTSTART;TZID=Europe/Oslo:20230915T080000
DTEND;TZID=Europe/Oslo:20230917T170000
DTSTAMP:20260424T074121
CREATED:20230323T082846Z
LAST-MODIFIED:20230915T142030Z
UID:10000081-1694764800-1694970000@www.langedrag.no
SUMMARY:Dyrevenn-helg
DESCRIPTION:
URL:https://www.langedrag.no/aktivitet/dyrevenn-helg-3/
LOCATION:Langedrag Naturpark\, Langedragsveien 274\, Tunhovd\, 3544\, Norge
CATEGORIES:Dyrevenn-dager,Hest
ATTACH;FMTTYPE=image/jpeg:https://www.langedrag.no/wp-content/uploads/2023/03/DVNA30000522AA-NYE-FJELLREVER-9.jpg
ORGANIZER;CN="Langedrag Naturpark":MAILTO:post@langedrag.no
END:VEVENT
END:VCALENDAR